BEGIN:VCALENDAR
VERSION:2.0
PRODID:-//Legado Cristão - ECPv6.15.20//NONSGML v1.0//EN
CALSCALE:GREGORIAN
METHOD:PUBLISH
X-ORIGINAL-URL:https://legadocristao.com.br
X-WR-CALDESC:Eventos para Legado Cristão
REFRESH-INTERVAL;VALUE=DURATION:PT1H
X-Robots-Tag:noindex
X-PUBLISHED-TTL:PT1H
BEGIN:VTIMEZONE
TZID:UTC
BEGIN:STANDARD
TZOFFSETFROM:+0000
TZOFFSETTO:+0000
TZNAME:UTC
DTSTART:20240101T000000
END:STANDARD
END:VTIMEZONE
BEGIN:VEVENT
DTSTART;TZID=UTC:20251031T080000
DTEND;TZID=UTC:20251031T170000
DTSTAMP:20260421T180705
CREATED:20250915T201413Z
LAST-MODIFIED:20250915T201807Z
UID:2414-1761897600-1761930000@legadocristao.com.br
SUMMARY:Seminário Legado Cristão – Sorocaba\, SP
DESCRIPTION:
URL:https://legadocristao.com.br/agenda/seminario-legado-cristao-sorocaba-sp/
LOCATION:Sorocaba\, SP
ATTACH;FMTTYPE=image/jpeg:https://legadocristao.com.br/wp-content/uploads/2025/09/sorocaba.jpg
END:VEVENT
BEGIN:VEVENT
DTSTART;TZID=UTC:20251108T080000
DTEND;TZID=UTC:20251108T170000
DTSTAMP:20260421T180705
CREATED:20250915T201628Z
LAST-MODIFIED:20250915T201628Z
UID:2415-1762588800-1762621200@legadocristao.com.br
SUMMARY:Seminário Legado Cristão – São Jose dos Campos\, SP
DESCRIPTION:
URL:https://legadocristao.com.br/agenda/seminario-legado-cristao-sao-jose-dos-campos-sp/
LOCATION:São José dos Campos\, SP
ATTACH;FMTTYPE=image/jpeg:https://legadocristao.com.br/wp-content/uploads/2025/09/Sao-Jose-dos-Campos-cidade-para-investir-1110x508-1.jpg
END:VEVENT
BEGIN:VEVENT
DTSTART;TZID=UTC:20260508T080000
DTEND;TZID=UTC:20260509T180000
DTSTAMP:20260421T180705
CREATED:20241001T140928Z
LAST-MODIFIED:20250908T153351Z
UID:1876-1778227200-1778349600@legadocristao.com.br
SUMMARY:3° Congresso International Legado Cristão
DESCRIPTION:
URL:https://legadocristao.com.br/agenda/2-congresso-international-legado-cristao/
LOCATION:Memorial da América Latina\, São Paulo\, SP\, Brazil
ATTACH;FMTTYPE=image/jpeg:https://legadocristao.com.br/wp-content/uploads/2024/07/IMG_3622-scaled.jpg
END:VEVENT
END:VCALENDAR