BEGIN:VCALENDAR
VERSION:2.0
PRODID:-//Legado Cristão - ECPv6.15.20//NONSGML v1.0//EN
CALSCALE:GREGORIAN
METHOD:PUBLISH
X-ORIGINAL-URL:https://legadocristao.com.br
X-WR-CALDESC:Eventos para Legado Cristão
REFRESH-INTERVAL;VALUE=DURATION:PT1H
X-Robots-Tag:noindex
X-PUBLISHED-TTL:PT1H
BEGIN:VTIMEZONE
TZID:UTC
BEGIN:STANDARD
TZOFFSETFROM:+0000
TZOFFSETTO:+0000
TZNAME:UTC
DTSTART:20240101T000000
END:STANDARD
END:VTIMEZONE
BEGIN:VEVENT
DTSTART;TZID=UTC:20250828T080000
DTEND;TZID=UTC:20250828T170000
DTSTAMP:20260421T175314
CREATED:20250915T200913Z
LAST-MODIFIED:20250915T200913Z
UID:2411-1756368000-1756400400@legadocristao.com.br
SUMMARY:Seminário Legado Cristão – Brasília\, DF
DESCRIPTION:
URL:https://legadocristao.com.br/agenda/seminario-legado-cristao-brasilia-df/
ATTACH;FMTTYPE=image/jpeg:https://legadocristao.com.br/wp-content/uploads/2025/09/congresso-nacional-crdito-bruno-pinheiro-setur-df-1.jpg
END:VEVENT
END:VCALENDAR